BEGIN:VCALENDAR
VERSION:2.0
PRODID:-//Parque Cerdeira - ECPv6.15.16//NONSGML v1.0//EN
CALSCALE:GREGORIAN
METHOD:PUBLISH
X-ORIGINAL-URL:https://parquecerdeira.com
X-WR-CALDESC:Eventos para Parque Cerdeira
REFRESH-INTERVAL;VALUE=DURATION:PT1H
X-Robots-Tag:noindex
X-PUBLISHED-TTL:PT1H
BEGIN:VTIMEZONE
TZID:Europe/Lisbon
BEGIN:DAYLIGHT
TZOFFSETFROM:+0000
TZOFFSETTO:+0100
TZNAME:WEST
DTSTART:20250330T010000
END:DAYLIGHT
BEGIN:STANDARD
TZOFFSETFROM:+0100
TZOFFSETTO:+0000
TZNAME:WET
DTSTART:20251026T010000
END:STANDARD
BEGIN:DAYLIGHT
TZOFFSETFROM:+0000
TZOFFSETTO:+0100
TZNAME:WEST
DTSTART:20260329T010000
END:DAYLIGHT
BEGIN:STANDARD
TZOFFSETFROM:+0100
TZOFFSETTO:+0000
TZNAME:WET
DTSTART:20261025T010000
END:STANDARD
BEGIN:DAYLIGHT
TZOFFSETFROM:+0000
TZOFFSETTO:+0100
TZNAME:WEST
DTSTART:20270328T010000
END:DAYLIGHT
BEGIN:STANDARD
TZOFFSETFROM:+0100
TZOFFSETTO:+0000
TZNAME:WET
DTSTART:20271031T010000
END:STANDARD
END:VTIMEZONE
BEGIN:VEVENT
DTSTART;TZID=Europe/Lisbon:20260214T140000
DTEND;TZID=Europe/Lisbon:20260214T170000
DTSTAMP:20260421T153819
CREATED:20220531T135418Z
LAST-MODIFIED:20260213T091107Z
UID:11554-1771077600-1771088400@parquecerdeira.com
SUMMARY:Trilho de Lamas
DESCRIPTION:[vc_row wrapper_container=”no-container”][vc_column][rev_slider_vc alias=”evento-trilho-de-lamas”][/vc_column][/vc_row][vc_row wrapper_container=”no-container”][vc_column][vc_empty_space][vc_column_text][vc_row][vc_column width=”1/1″][vc_column_text]Caminhada guiada pelo planalto de Lamas\, a nordeste da Fenda da Calcedónia\, com visita ao miradouro da Boneca e dois bosques de Pilriteiros (Crataegus monoggyna). Pelo caminho\, avistam-se interessantes formações rochosas marcadas pela erosão. \nConselhos:\nVestuário confortável; Calçado confortável\, preferencialmente botas; Não levar carga desnecessária; Levar água; Levar máquina fotográfica. \nCondições: A inscrição deve ser confirmada com pelo menos 1 dia de antecedência. Deslocação para o local de início da caminhada em veículo\, por conta do cliente.\nInscrições na Receção do Parque Cerdeira. \n  \nUma forma diferente de fazer campismo no Gerês.[/vc_column_text][/vc_column][/vc_row]
URL:https://parquecerdeira.com/evento/trilho-de-lamas-2026-01-02/
LOCATION:Lamas\, Portugal
CATEGORIES:Caminhadas guiadas
ATTACH;FMTTYPE=image/jpeg:https://parquecerdeira.com/wp-content/uploads/2022/01/Lamas_img.jpg
END:VEVENT
BEGIN:VEVENT
DTSTART;TZID=Europe/Lisbon:20260214T143000
DTEND;TZID=Europe/Lisbon:20260214T170000
DTSTAMP:20260421T153819
CREATED:20220531T102702Z
LAST-MODIFIED:20220531T102702Z
UID:11690-1771079400-1771088400@parquecerdeira.com
SUMMARY:Descobrir a Mata da Albergaria
DESCRIPTION:[vc_row wrapper_container=”no-container”][vc_column][rev_slider_vc alias=”evento-descobrir-a-mata-da-albergaria”][/vc_column][/vc_row][vc_row wrapper_container=”no-container”][vc_column][vc_empty_space][vc_column_text]Passeio pedestre guiado ao longo da milha XXXIII da Geira Romana\, nas margens do Rio Homem\, em plena Mata da Albergaria. \nDeslocação em veículo até ao local de início da caminhada. \n  \nConselhos: Calçado confortável; Levar água; Não levar carga desnecessária. \nCondições: A inscrição deve ser confirmada com pelo menos 1 dia de antecedência e só se realiza no mínimo com 4 pessoas. \nUma forma diferente de fazer campismo no Gerês.[/vc_column_text][/vc_column][/vc_row]
URL:https://parquecerdeira.com/evento/descobrir-a-mata-da-albergaria-2026-02-14/
LOCATION:Parque Cerdeira\, Rua de cerdeira 400\, Campo do gerês\, Braga\, 4840-030\, Portugal
CATEGORIES:Caminhadas guiadas
ATTACH;FMTTYPE=image/jpeg:https://parquecerdeira.com/wp-content/uploads/2022/02/albergaria.jpg
ORGANIZER;CN="Parque Cerdeira":MAILTO:info@parquecerdeira.com
END:VEVENT
BEGIN:VEVENT
DTSTART;TZID=Europe/Lisbon:20260215T143000
DTEND;TZID=Europe/Lisbon:20260215T160000
DTSTAMP:20260421T153819
CREATED:20220531T110857Z
LAST-MODIFIED:20260213T091352Z
UID:11517-1771165800-1771171200@parquecerdeira.com
SUMMARY:Geira Norte
DESCRIPTION:[vc_row wrapper_container=”no-container”][vc_column][rev_slider_vc alias=”evento-via-romana”][/vc_column][/vc_row][vc_row wrapper_container=”no-container”][vc_column][vc_empty_space][vc_column_text][vc_row][vc_column width=”1/1″][vc_column_text]Com início e fim no Parque Cerdeira\, segue um pequeno troço da Via Romana (Geira) entre as milhas XXVIII e XXXI\, onde está um frondoso bosque de carvalhos (Quercus robur)\, formando um ambiente rico em biodiversidade\, mesmo sobranceiro à albufeira de Vilarinho das Furnas. Atravessa depois um bonito bosque de medronheiros (Arbutus unedo)\, mesmo por baixo da emblemática Fraga de Sarilhão\, local onde em tempos nidificava a Águia Real. \nConselhos:\nVestuário confortável; Calçado confortável\, preferencialmente botas;\nNão levar carga desnecessária; Levar água; Levar máquina fotográfica. \nCondições:\nTodo o participante que se inscreve nesta actividade deve respeitar o guia e a natureza.\nA inscrição deve ser confirmada com pelo menos 1 dia de antecedência.\nInscrições na Receção do Parque Cerdeira. \n  \n[/vc_column_text][/vc_column][/vc_row]
URL:https://parquecerdeira.com/evento/geira-norte-2025-12-07/
LOCATION:Parque Cerdeira\, Rua de cerdeira 400\, Campo do gerês\, Braga\, 4840-030\, Portugal
CATEGORIES:Caminhadas guiadas
ATTACH;FMTTYPE=image/jpeg:https://parquecerdeira.com/wp-content/uploads/2022/02/geira.jpg
ORGANIZER;CN="Parque Cerdeira":MAILTO:info@parquecerdeira.com
END:VEVENT
BEGIN:VEVENT
DTSTART;TZID=Europe/Lisbon:20260217T090000
DTEND;TZID=Europe/Lisbon:20260217T123000
DTSTAMP:20260421T153819
CREATED:20220503T082615Z
LAST-MODIFIED:20260324T092557Z
UID:11696-1771318800-1771331400@parquecerdeira.com
SUMMARY:Aldeias Típicas
DESCRIPTION:[vc_row wrapper_container=”no-container”][vc_column][rev_slider_vc alias=”evento-aldeias”][/vc_column][/vc_row][vc_row wrapper_container=”no-container”][vc_column][vc_empty_space][vc_column_text]Ainda impressiona a ruralidade dos lugares de Brufe\, Cutelo e Cortinhas\, com os canastros\, o relógio de sol e as quelhas por entre as típicas casas de granito muito características da região. O cheiro a terra\, feno e a flores\, são também outras raridades oferecidas em diferentes estações do ano. \nConselhos: Vestuário confortável; Calçado confortável\, preferencialmente botas; Não levar carga desnecessária; Levar água; Levar máquina fotográfica. \nCondições: Todo o participante que se inscreve nesta actividade deve respeitar o guia e a natureza.\nA inscrição deve ser confirmada com pelo menos 1 dia de antecedência. \nDeslocação em veículo a partir do Parque Cerdeira. \nUma forma diferente de fazer campismo no Gerês.[/vc_column_text][/vc_column][/vc_row]
URL:https://parquecerdeira.com/evento/aldeias-tipicas-2026-02-17/
LOCATION:Parque Cerdeira\, Rua de cerdeira 400\, Campo do gerês\, Braga\, 4840-030\, Portugal
CATEGORIES:Caminhadas guiadas
ATTACH;FMTTYPE=image/jpeg:https://parquecerdeira.com/wp-content/uploads/2022/05/1-scaled.jpg
ORGANIZER;CN="Parque Cerdeira":MAILTO:info@parquecerdeira.com
END:VEVENT
END:VCALENDAR