BEGIN:VCALENDAR
VERSION:2.0
PRODID:-//Parque Cerdeira - ECPv6.15.16//NONSGML v1.0//EN
CALSCALE:GREGORIAN
METHOD:PUBLISH
X-ORIGINAL-URL:https://parquecerdeira.com
X-WR-CALDESC:Eventos para Parque Cerdeira
REFRESH-INTERVAL;VALUE=DURATION:PT1H
X-Robots-Tag:noindex
X-PUBLISHED-TTL:PT1H
BEGIN:VTIMEZONE
TZID:Europe/Lisbon
BEGIN:DAYLIGHT
TZOFFSETFROM:+0000
TZOFFSETTO:+0100
TZNAME:WEST
DTSTART:20250330T010000
END:DAYLIGHT
BEGIN:STANDARD
TZOFFSETFROM:+0100
TZOFFSETTO:+0000
TZNAME:WET
DTSTART:20251026T010000
END:STANDARD
BEGIN:DAYLIGHT
TZOFFSETFROM:+0000
TZOFFSETTO:+0100
TZNAME:WEST
DTSTART:20260329T010000
END:DAYLIGHT
BEGIN:STANDARD
TZOFFSETFROM:+0100
TZOFFSETTO:+0000
TZNAME:WET
DTSTART:20261025T010000
END:STANDARD
BEGIN:DAYLIGHT
TZOFFSETFROM:+0000
TZOFFSETTO:+0100
TZNAME:WEST
DTSTART:20270328T010000
END:DAYLIGHT
BEGIN:STANDARD
TZOFFSETFROM:+0100
TZOFFSETTO:+0000
TZNAME:WET
DTSTART:20271031T010000
END:STANDARD
END:VTIMEZONE
BEGIN:VEVENT
DTSTART;TZID=Europe/Lisbon:20260102T090000
DTEND;TZID=Europe/Lisbon:20260102T120000
DTSTAMP:20260421T185444
CREATED:20220531T102702Z
LAST-MODIFIED:20260208T162748Z
UID:11552-1767344400-1767355200@parquecerdeira.com
SUMMARY:Descobrir a Mata da Albergaria
DESCRIPTION:[vc_row wrapper_container=”no-container”][vc_column][rev_slider_vc alias=”evento-descobrir-a-mata-da-albergaria”][/vc_column][/vc_row][vc_row wrapper_container=”no-container”][vc_column][vc_empty_space][vc_column_text]Passeio pedestre guiado ao longo da milha XXXIII da Geira Romana\, nas margens do Rio Homem\, em plena Mata da Albergaria. \nDeslocação em veículo até ao local de início da caminhada. \n  \nConselhos: Calçado confortável; Levar água; Não levar carga desnecessária. \nCondições: A inscrição deve ser confirmada com pelo menos 1 dia de antecedência e só se realiza no mínimo com 4 pessoas. \nUma forma diferente de fazer campismo no Gerês.[/vc_column_text][/vc_column][/vc_row]
URL:https://parquecerdeira.com/evento/descobrir-a-mata-da-albergaria-2026-01-02/
LOCATION:Parque Cerdeira\, Rua de cerdeira 400\, Campo do gerês\, Braga\, 4840-030\, Portugal
CATEGORIES:Caminhadas guiadas
ATTACH;FMTTYPE=image/jpeg:https://parquecerdeira.com/wp-content/uploads/2022/02/albergaria.jpg
ORGANIZER;CN="Parque Cerdeira":MAILTO:info@parquecerdeira.com
END:VEVENT
END:VCALENDAR